BEGIN:VCALENDAR
VERSION:2.0
PRODID:Events Booking
BEGIN:VEVENT
UID:69e7b51b2dbf3
SUMMARY:Adam Swanson @ Oroville State Theatre
DESCRIPTION:The Oroville Concert Association is proud to present Adam Swans
 on\, award-winning pianist.
LOCATION:1489 Myers St\, Oroville\, CA 95965
DTSTART:20240420T020000Z
DTEND:20240419T070000Z
DTSTAMP:20240322T024633Z
ORGANIZER;CN=West Coast Ragtime Society:MAILTO:support@westcoastragtime.com
GEO:39.512749;-121.5545
X-APPLE-STRUCTURED-LOCATION;VALUE=URI;X-ADDRESS=1489 Myers St\, Oroville\, 
 CA 95965;X-APPLE-RADIUS=72;X-TITLE=Oroville State Theatre:39.512749;-121.5
 545
END:VEVENT
END:VCALENDAR