BEGIN:VCALENDAR
VERSION:2.0
PRODID:Events Booking
BEGIN:VEVENT
UID:69e8a92c091a4
SUMMARY:Durango Ragtime & Early Jazz Festival
DESCRIPTION:
LOCATION:699 Main Avenue Durango\, CO 81301
DTSTART:20260416T070000Z
DTEND:20260419T070000Z
DTSTAMP:20250304T074023Z
ORGANIZER;CN=West Coast Ragtime Society:MAILTO:support@westcoastragtime.com
GEO:37.271444;-107.88126
X-APPLE-STRUCTURED-LOCATION;VALUE=URI;X-ADDRESS=699 Main Avenue Durango\, C
 O 81301;X-APPLE-RADIUS=72;X-TITLE=Strater Hotel\, Durango CO:37.271444;-10
 7.88126
END:VEVENT
END:VCALENDAR