BEGIN:VCALENDAR
VERSION:2.0
PRODID:Events Booking
BEGIN:VEVENT
UID:69e8ab7dc1f63
SUMMARY:Spotlighting Ragtime Youth Virtual Concert
DESCRIPTION:All Finished video entries are due by July 31st. Get the entry 
 form in ASAP.
DTSTART:20230501T070000Z
DTEND:20230731T070000Z
DTSTAMP:20230520T134513Z
ORGANIZER;CN=West Coast Ragtime Society:MAILTO:support@westcoastragtime.com
END:VEVENT
END:VCALENDAR