BEGIN:VCALENDAR
VERSION:2.0
PRODID:Events Booking
BEGIN:VEVENT
UID:69e7b5e1d7069
SUMMARY:Virginia Tichenor and Marty Eggers
DESCRIPTION:Marty Eggers and Virginia Tichenor
DTSTART:20240312T003000Z
DTSTAMP:20231109T044419Z
ORGANIZER;CN=West Coast Ragtime Society:MAILTO:support@westcoastragtime.com
END:VEVENT
END:VCALENDAR