BEGIN:VCALENDAR
VERSION:2.0
PRODID:Events Booking
BEGIN:VEVENT
UID:69e7b507cb2f4
SUMMARY:Virginia Tichenor’s Ragtime Quartet
DESCRIPTION:Larkspur\, CA
LOCATION:500 Magnolia Ave Larkspur\, CA 94939
DTSTART:20251026T100000Z
DTEND:20251026T120000Z
DTSTAMP:20250923T012007Z
ORGANIZER;CN=West Coast Ragtime Society:MAILTO:support@westcoastragtime.com
GEO:37.936232;-122.536934
X-APPLE-STRUCTURED-LOCATION;VALUE=URI;X-ADDRESS=500 Magnolia Ave Larkspur\,
  CA 94939;X-APPLE-RADIUS=72;X-TITLE=American Legion Post 313\, Larkspur:37
 .936232;-122.536934
END:VEVENT
END:VCALENDAR